BEGIN:VCALENDAR
VERSION:2.0
PRODID:-//KBK Competition - ECPv6.0.0.1//NONSGML v1.0//EN
CALSCALE:GREGORIAN
METHOD:PUBLISH
X-ORIGINAL-URL:http://www.kbkcompetition.fr
X-WR-CALDESC:évènements pour KBK Competition
REFRESH-INTERVAL;VALUE=DURATION:PT1H
X-Robots-Tag:noindex
X-PUBLISHED-TTL:PT1H
BEGIN:VTIMEZONE
TZID:Europe/Paris
BEGIN:DAYLIGHT
TZOFFSETFROM:+0100
TZOFFSETTO:+0200
TZNAME:CEST
DTSTART:20160327T010000
END:DAYLIGHT
BEGIN:STANDARD
TZOFFSETFROM:+0200
TZOFFSETTO:+0100
TZNAME:CET
DTSTART:20161030T010000
END:STANDARD
END:VTIMEZONE
BEGIN:VEVENT
DTSTART;VALUE=DATE:20160630
DTEND;VALUE=DATE:20160704
DTSTAMP:20260420T014103
CREATED:20151211T185737Z
LAST-MODIFIED:20160114T211754Z
UID:769-1467244800-1467590399@www.kbkcompetition.fr
SUMMARY:Chpt de France Minime/Cadet
DESCRIPTION:LIVE TIMING : CLIQUER ICI
URL:http://www.kbkcompetition.fr/event/chpt-france-minime/
LOCATION:Lavelanet\, France
ATTACH;FMTTYPE=image/jpeg:http://www.kbkcompetition.fr/wp-content/uploads/2015/12/Logo-FFSA-Karting-2016.jpg
END:VEVENT
BEGIN:VEVENT
DTSTART;VALUE=DATE:20160714
DTEND;VALUE=DATE:20160718
DTSTAMP:20260420T014103
CREATED:20151211T185901Z
LAST-MODIFIED:20160114T192103Z
UID:771-1468454400-1468799999@www.kbkcompetition.fr
SUMMARY:euro serie X30 Zuera
DESCRIPTION:LIVE TIMING : CLIQUER ICI
URL:http://www.kbkcompetition.fr/event/euro-serie-x30-2/
LOCATION:Zuera\, Espagne
CATEGORIES:Competition
ATTACH;FMTTYPE=image/jpeg:http://www.kbkcompetition.fr/wp-content/uploads/2015/12/Iame_SingleRace_Slider_958x499px_Zuera1.jpg
END:VEVENT
BEGIN:VEVENT
DTSTART;VALUE=DATE:20160714
DTEND;VALUE=DATE:20160718
DTSTAMP:20260420T014103
CREATED:20151211T190024Z
LAST-MODIFIED:20160114T205026Z
UID:773-1468454400-1468799999@www.kbkcompetition.fr
SUMMARY:chpt De France minikart
DESCRIPTION:LIVE TIMING : CLIQUER ICI
URL:http://www.kbkcompetition.fr/event/chpt-france-minikart/
LOCATION:Mirecourt
ATTACH;FMTTYPE=image/jpeg:http://www.kbkcompetition.fr/wp-content/uploads/2015/12/Logo-FFSA-Karting-2016.jpg
END:VEVENT
BEGIN:VEVENT
DTSTART;VALUE=DATE:20160721
DTEND;VALUE=DATE:20160725
DTSTAMP:20260420T014103
CREATED:20151211T190159Z
LAST-MODIFIED:20160114T203628Z
UID:775-1469059200-1469404799@www.kbkcompetition.fr
SUMMARY:Trophée Kartmag
DESCRIPTION:LIVE TIMING : CLIQUER ICI 
URL:http://www.kbkcompetition.fr/event/trophee-kartmag/
LOCATION:Varennes\, France
ATTACH;FMTTYPE=image/jpeg:http://www.kbkcompetition.fr/wp-content/uploads/2015/12/Le-reglement-de-la-Stars-of-Karting-disponible.jpg
END:VEVENT
BEGIN:VEVENT
DTSTART;VALUE=DATE:20160728
DTEND;VALUE=DATE:20160801
DTSTAMP:20260420T014103
CREATED:20160114T211705Z
LAST-MODIFIED:20160114T211705Z
UID:1095-1469664000-1470009599@www.kbkcompetition.fr
SUMMARY:Coupe De France Minime/Cadet
DESCRIPTION:LIVE TIMING : CLIQUER ICI
URL:http://www.kbkcompetition.fr/event/chpt-de-france-minimecadet/
ATTACH;FMTTYPE=image/jpeg:http://www.kbkcompetition.fr/wp-content/uploads/2015/12/Logo-FFSA-Karting-2016.jpg
END:VEVENT
END:VCALENDAR