BEGIN:VCALENDAR
VERSION:2.0
PRODID:-//KBK Competition - ECPv6.0.0.1//NONSGML v1.0//EN
CALSCALE:GREGORIAN
METHOD:PUBLISH
X-WR-CALNAME:KBK Competition
X-ORIGINAL-URL:http://www.kbkcompetition.fr
X-WR-CALDESC:évènements pour KBK Competition
REFRESH-INTERVAL;VALUE=DURATION:PT1H
X-Robots-Tag:noindex
X-PUBLISHED-TTL:PT1H
BEGIN:VTIMEZONE
TZID:Europe/Paris
BEGIN:DAYLIGHT
TZOFFSETFROM:+0100
TZOFFSETTO:+0200
TZNAME:CEST
DTSTART:20160327T010000
END:DAYLIGHT
BEGIN:STANDARD
TZOFFSETFROM:+0200
TZOFFSETTO:+0100
TZNAME:CET
DTSTART:20161030T010000
END:STANDARD
END:VTIMEZONE
BEGIN:VEVENT
DTSTART;VALUE=DATE:20160402
DTEND;VALUE=DATE:20160404
DTSTAMP:20260420T055532
CREATED:20150531T213447Z
LAST-MODIFIED:20160114T182538Z
UID:442-1459555200-1459727999@www.kbkcompetition.fr
SUMMARY:Course Club Brignoles
DESCRIPTION:  \nManche 1/8 trophée du SUD-EST \nLIVE TIMING : CLIQUER ICI
URL:http://www.kbkcompetition.fr/event/family-days/
LOCATION:Brignoles\, Brignoles\, France
ATTACH;FMTTYPE=image/jpeg:http://www.kbkcompetition.fr/wp-content/uploads/2015/12/CRK-PACAC.jpg
END:VEVENT
BEGIN:VEVENT
DTSTART;VALUE=DATE:20160409
DTEND;VALUE=DATE:20160411
DTSTAMP:20260420T055532
CREATED:20150531T213213Z
LAST-MODIFIED:20160114T183920Z
UID:437-1460160000-1460332799@www.kbkcompetition.fr
SUMMARY:chpt Régional Brignoles
DESCRIPTION:LIVE TIMING : CLIQUER ICI
URL:http://www.kbkcompetition.fr/event/festival-week/
LOCATION:Brignoles\, Brignoles\, France
ATTACH;FMTTYPE=image/jpeg:http://www.kbkcompetition.fr/wp-content/uploads/2015/12/CRK-PACAC.jpg
END:VEVENT
BEGIN:VEVENT
DTSTART;VALUE=DATE:20160421
DTEND;VALUE=DATE:20160425
DTSTAMP:20260420T055532
CREATED:20150515T140550Z
LAST-MODIFIED:20160114T184922Z
UID:416-1461196800-1461542399@www.kbkcompetition.fr
SUMMARY:NSK Angerville
DESCRIPTION:LIVE TIMING : CLIQUER ICI
URL:http://www.kbkcompetition.fr/event/corn-crop-festival/
LOCATION:Angerville\, Angerville\, France
ATTACH;FMTTYPE=image/jpeg:http://www.kbkcompetition.fr/wp-content/uploads/2015/05/NSK-2016.jpg
END:VEVENT
BEGIN:VEVENT
DTSTART;VALUE=DATE:20160430
DTEND;VALUE=DATE:20160502
DTSTAMP:20260420T055532
CREATED:20150515T170224Z
LAST-MODIFIED:20160114T184241Z
UID:35-1461974400-1462147199@www.kbkcompetition.fr
SUMMARY:chpt régional Carpentras
DESCRIPTION:  \nLIVE TIMING : CLIQUER ICI
URL:http://www.kbkcompetition.fr/event/get-connected-class-3/
LOCATION:Carpentras\, carpentras\, France
CATEGORIES:Competition
ATTACH;FMTTYPE=image/jpeg:http://www.kbkcompetition.fr/wp-content/uploads/2015/12/CRK-PACAC.jpg
END:VEVENT
END:VCALENDAR