BEGIN:VCALENDAR
VERSION:2.0
PRODID:-//KBK Competition - ECPv6.0.0.1//NONSGML v1.0//EN
CALSCALE:GREGORIAN
METHOD:PUBLISH
X-WR-CALNAME:KBK Competition
X-ORIGINAL-URL:http://www.kbkcompetition.fr
X-WR-CALDESC:évènements pour KBK Competition
REFRESH-INTERVAL;VALUE=DURATION:PT1H
X-Robots-Tag:noindex
X-PUBLISHED-TTL:PT1H
BEGIN:VTIMEZONE
TZID:Europe/Paris
BEGIN:DAYLIGHT
TZOFFSETFROM:+0100
TZOFFSETTO:+0200
TZNAME:CEST
DTSTART:20160327T010000
END:DAYLIGHT
BEGIN:STANDARD
TZOFFSETFROM:+0200
TZOFFSETTO:+0100
TZNAME:CET
DTSTART:20161030T010000
END:STANDARD
END:VTIMEZONE
BEGIN:VEVENT
DTSTART;VALUE=DATE:20160305
DTEND;VALUE=DATE:20160307
DTSTAMP:20260420T073522
CREATED:20150531T213301Z
LAST-MODIFIED:20160114T192148Z
UID:440-1457136000-1457308799@www.kbkcompetition.fr
SUMMARY:chpt régional Le Castellet
DESCRIPTION:LIVE TIMING : CLIQUER ICI
URL:http://www.kbkcompetition.fr/event/church-meeting/
LOCATION:Le Castellet\, Le Castellet\, France
CATEGORIES:Competition
ATTACH;FMTTYPE=image/jpeg:http://www.kbkcompetition.fr/wp-content/uploads/2015/12/CRK-PACAC.jpg
END:VEVENT
BEGIN:VEVENT
DTSTART;VALUE=DATE:20160319
DTEND;VALUE=DATE:20160321
DTSTAMP:20260420T073522
CREATED:20150515T170207Z
LAST-MODIFIED:20160114T192221Z
UID:34-1458345600-1458518399@www.kbkcompetition.fr
SUMMARY:chpt Régional Salon de Pce
DESCRIPTION:LIVE TIMING : CLIQUER ICI \n 
URL:http://www.kbkcompetition.fr/event/get-connected-class-2/
LOCATION:Salon de Provence\, Salon de Provence\, France
CATEGORIES:Competition
ATTACH;FMTTYPE=image/jpeg:http://www.kbkcompetition.fr/wp-content/uploads/2015/12/CRK-PACAC.jpg
END:VEVENT
BEGIN:VEVENT
DTSTART;VALUE=DATE:20160325
DTEND;VALUE=DATE:20160328
DTSTAMP:20260420T073522
CREATED:20150531T213415Z
LAST-MODIFIED:20160114T183616Z
UID:441-1458864000-1459123199@www.kbkcompetition.fr
SUMMARY:Challenge Europa X30
DESCRIPTION:LIVE TIMING : CLIQUER ICI \n 
URL:http://www.kbkcompetition.fr/event/thanksgiving-prep/
LOCATION:Lieu sans nom\, CASTELLETTO DI BRANDUZZO\, Italie
ATTACH;FMTTYPE=image/jpeg:http://www.kbkcompetition.fr/wp-content/uploads/2015/05/Logo-X30-Europa.jpg
END:VEVENT
END:VCALENDAR