BEGIN:VCALENDAR
VERSION:2.0
PRODID:-//KBK Competition - ECPv6.0.0.1//NONSGML v1.0//EN
CALSCALE:GREGORIAN
METHOD:PUBLISH
X-WR-CALNAME:KBK Competition
X-ORIGINAL-URL:http://www.kbkcompetition.fr
X-WR-CALDESC:évènements pour KBK Competition
REFRESH-INTERVAL;VALUE=DURATION:PT1H
X-Robots-Tag:noindex
X-PUBLISHED-TTL:PT1H
BEGIN:VTIMEZONE
TZID:Europe/Paris
BEGIN:DAYLIGHT
TZOFFSETFROM:+0100
TZOFFSETTO:+0200
TZNAME:CEST
DTSTART:20160327T010000
END:DAYLIGHT
BEGIN:STANDARD
TZOFFSETFROM:+0200
TZOFFSETTO:+0100
TZNAME:CET
DTSTART:20161030T010000
END:STANDARD
END:VTIMEZONE
BEGIN:VEVENT
DTSTART;VALUE=DATE:20160924
DTEND;VALUE=DATE:20160926
DTSTAMP:20260420T001657
CREATED:20151211T190636Z
LAST-MODIFIED:20160114T205400Z
UID:781-1474675200-1474847999@www.kbkcompetition.fr
SUMMARY:Course Club Le Luc
DESCRIPTION:Manche 6/8 trophée du SUD-EST \nLIVE TIMING : CLIQUER ICI
URL:http://www.kbkcompetition.fr/event/course-club-le-luc/
LOCATION:Le Luc\, Le Luc
ATTACH;FMTTYPE=image/jpeg:http://www.kbkcompetition.fr/wp-content/uploads/2015/12/CRK-PACAC.jpg
END:VEVENT
END:VCALENDAR