BEGIN:VCALENDAR
VERSION:2.0
PRODID:-//KBK Competition - ECPv6.0.0.1//NONSGML v1.0//EN
CALSCALE:GREGORIAN
METHOD:PUBLISH
X-WR-CALNAME:KBK Competition
X-ORIGINAL-URL:http://www.kbkcompetition.fr
X-WR-CALDESC:évènements pour KBK Competition
REFRESH-INTERVAL;VALUE=DURATION:PT1H
X-Robots-Tag:noindex
X-PUBLISHED-TTL:PT1H
BEGIN:VTIMEZONE
TZID:Europe/Paris
BEGIN:DAYLIGHT
TZOFFSETFROM:+0100
TZOFFSETTO:+0200
TZNAME:CEST
DTSTART:20160327T010000
END:DAYLIGHT
BEGIN:STANDARD
TZOFFSETFROM:+0200
TZOFFSETTO:+0100
TZNAME:CET
DTSTART:20161030T010000
END:STANDARD
END:VTIMEZONE
BEGIN:VEVENT
DTSTART;VALUE=DATE:20160618
DTEND;VALUE=DATE:20160620
DTSTAMP:20260420T042837
CREATED:20151211T185533Z
LAST-MODIFIED:20160114T193155Z
UID:767-1466208000-1466380799@www.kbkcompetition.fr
SUMMARY:Trophée Oscar Petit
DESCRIPTION:LIVE TIMING : CLIQUER ICI
URL:http://www.kbkcompetition.fr/event/trophee-oscar-petit/
LOCATION:Lieu sans nom\, Varennes sur Allier
CATEGORIES:Competition
ATTACH;FMTTYPE=image/jpeg:http://www.kbkcompetition.fr/wp-content/uploads/2015/12/c1a1b5aa-b33c-4288-88c9-27dfe218bb13.jpg
END:VEVENT
END:VCALENDAR