BEGIN:VCALENDAR
VERSION:2.0
PRODID:-//KBK Competition - ECPv6.0.0.1//NONSGML v1.0//EN
CALSCALE:GREGORIAN
METHOD:PUBLISH
X-ORIGINAL-URL:http://www.kbkcompetition.fr
X-WR-CALDESC:évènements pour KBK Competition
REFRESH-INTERVAL;VALUE=DURATION:PT1H
X-Robots-Tag:noindex
X-PUBLISHED-TTL:PT1H
BEGIN:VTIMEZONE
TZID:Europe/Paris
BEGIN:DAYLIGHT
TZOFFSETFROM:+0100
TZOFFSETTO:+0200
TZNAME:CEST
DTSTART:20160327T010000
END:DAYLIGHT
BEGIN:STANDARD
TZOFFSETFROM:+0200
TZOFFSETTO:+0100
TZNAME:CET
DTSTART:20161030T010000
END:STANDARD
END:VTIMEZONE
BEGIN:VEVENT
DTSTART;VALUE=DATE:20160519
DTEND;VALUE=DATE:20160523
DTSTAMP:20260420T055817
CREATED:20151211T184613Z
LAST-MODIFIED:20160114T185832Z
UID:759-1463616000-1463961599@www.kbkcompetition.fr
SUMMARY:Euro serie X30 Castelletto
DESCRIPTION:LIVE TIMING : CLIQUER ICI
URL:http://www.kbkcompetition.fr/event/euro-serie-x30/
LOCATION:Lieu sans nom\, France\, castelletto di branduzzo
ATTACH;FMTTYPE=image/jpeg:http://www.kbkcompetition.fr/wp-content/uploads/2015/12/Iame_SingleRace_Slider_958x499px_Castelleto1.jpg
END:VEVENT
BEGIN:VEVENT
DTSTART;VALUE=DATE:20160521
DTEND;VALUE=DATE:20160523
DTSTAMP:20260420T055817
CREATED:20151211T184924Z
LAST-MODIFIED:20160114T191540Z
UID:761-1463788800-1463961599@www.kbkcompetition.fr
SUMMARY:Course Club Martigues
DESCRIPTION:Manche 2/8 trophée SUD-EST \nLIVE TIMING : CLIQUER ICI
URL:http://www.kbkcompetition.fr/event/course-club/
LOCATION:Martigues
ATTACH;FMTTYPE=image/jpeg:http://www.kbkcompetition.fr/wp-content/uploads/2015/12/CRK-PACAC.jpg
END:VEVENT
END:VCALENDAR